BEGIN:VCALENDAR
VERSION:2.0
PRODID:-//bcsta.org//Event Calendar Plugin v1.0.229//EN
X-WR-CALNAME:bcsta.org Events
X-WR-CALDESC:All upcoming events (single event) from bcsta.org
CALSCALE:GREGORIAN
METHOD:PUBLISH
X-WR-TIMEZONE:America/Vancouver
BEGIN:VTIMEZONE
TZID:America/Vancouver
X-LIC-LOCATION:America/Vancouver
BEGIN:STANDARD
TZOFFSETFROM:-0700
TZOFFSETTO:-0800
TZNAME:PST
DTSTART:19701101T020000
RRULE:FREQ=YEARLY;BYMONTH=11;BYDAY=1SU
END:STANDARD
BEGIN:DAYLIGHT
TZOFFSETFROM:-0800
TZOFFSETTO:-0700
TZNAME:PDT
DTSTART:19700308T020000
RRULE:FREQ=YEARLY;BYMONTH=3;BYDAY=2SU
END:DAYLIGHT
END:VTIMEZONE
BEGIN:VEVENT
UID:13092@bcsta.org
DTSTAMP:20260421T130216Z
DTSTART;TZID=America/Vancouver:20261105T080000
DTEND;TZID=America/Vancouver:20261106T160000
SUMMARY:BCSSA | Fall Conference
DESCRIPTION:
URL:https://bcsta.org/event/bcssa-fall-conference-2/
END:VEVENT
END:VCALENDAR
